BEGIN:VCALENDAR
VERSION:2.0
PRODID:-//Erga edizioni - ECPv5.16.3.1//NONSGML v1.0//EN
CALSCALE:GREGORIAN
METHOD:PUBLISH
X-WR-CALNAME:Erga edizioni
X-ORIGINAL-URL:https://erga.it
X-WR-CALDESC:Eventi per Erga edizioni
REFRESH-INTERVAL;VALUE=DURATION:PT1H
X-Robots-Tag:noindex
X-PUBLISHED-TTL:PT1H
BEGIN:VTIMEZONE
TZID:Europe/Rome
BEGIN:DAYLIGHT
TZOFFSETFROM:+0100
TZOFFSETTO:+0200
TZNAME:CEST
DTSTART:20260329T010000
END:DAYLIGHT
BEGIN:STANDARD
TZOFFSETFROM:+0200
TZOFFSETTO:+0100
TZNAME:CET
DTSTART:20261025T010000
END:STANDARD
END:VTIMEZONE
BEGIN:VEVENT
DTSTART;TZID=Europe/Rome:20260418T170000
DTEND;TZID=Europe/Rome:20260426T200000
DTSTAMP:20260421T195333
CREATED:20260408T231039Z
LAST-MODIFIED:20260412T232228Z
UID:37762-1776531600-1777233600@erga.it
SUMMARY:𝗟𝗮 𝘃𝗶𝗮 𝗱𝗲𝗶 𝗯𝗮𝗻𝗱𝗶𝘁𝗶 a Levà di Sori
DESCRIPTION:A Levà di Sori si tiene dal 18 al 26 aprile una serie di incontri con il patrocinio di A.N.P.I.\nche inizia il 18 aprile alle 17.00 con l’inaugurazione della Mostra fotografica \nVolti e storie della Resistenza nel Sorese \na cura di Annamaria Guglielmino \nProgramma \n18 aprile \nOre 17:00 Inaugurazione e presentazione della mostra Saranno presenti Silvio Ferrali\, Mauro Guazzetti (ANPI)\, Giancarlo Furfaro (ANPI Ansaldo) e Annamaria Guglielmino\nOre 18:30 Franco Picetti in collaborazione con Enrica Guidotti presenta “Avevamo 20 anni” – Storie di Sori.\nRicco apericena sociale \n19 aprile\nOre 18:00 Marco Oliveri presenta “Angela racconta” Ultima testimone del rastrellamento della Benedicta.\nA seguire Alessandro Nera presenta “Mario Rigoni Stern e la Resistenza degli internati militari italiani“ \n22 aprile\nOre 18:00 “La casa di Nora: memoria e Resistenza nel quartiere del Campasso”\nA cura di: ANPI San Martino Campasso sez. Martiri del Turchino in collaborazione con Ass. SAP470 Sussisa \n24 aprile\nOre 18:00 Claudio Marci presenta il libro “Resistenza e dintorni“.\nA seguire Roberto G. Colombo presenta il libro “La via dei «banditi»” (Erga edizioni) \n26 aprile \nChiusura della mostra \nOre 18:00 “Canzoni in genovese e non solo” con Franco Picetti.\nRicco apericena sociale \nDurante l’apertura sarà garantito il servizio bar\nSarà a messo disposizione uno spazio libero ai visitatori su cui potranno esporre il proprio materiale\,\ninerente alla Resistenza\, che verrà restituito alla chiusura della mostra \n 
URL:https://erga.it/eventi/%f0%9d%97%9f%f0%9d%97%ae-%f0%9d%98%83%f0%9d%97%b6%f0%9d%97%ae-%f0%9d%97%b1%f0%9d%97%b2%f0%9d%97%b6-%f0%9d%97%af%f0%9d%97%ae%f0%9d%97%bb%f0%9d%97%b1%f0%9d%97%b6%f0%9d%98%81%f0%9d%97%b6-a-leva-di-sori/
LOCATION:Società di Levà\, Sori (Genova)
CATEGORIES:Progetto,Mostra,Presentazione Libro
ATTACH;FMTTYPE=image/jpeg:https://erga.it/wp-content/uploads/2026/04/WhatsApp-Image-2026-04-12-at-15.15.08.jpeg
END:VEVENT
BEGIN:VEVENT
DTSTART;TZID=Europe/Rome:20260422T180000
DTEND;TZID=Europe/Rome:20260422T193000
DTSTAMP:20260421T195333
CREATED:20260420T213824Z
LAST-MODIFIED:20260421T001512Z
UID:37796-1776880800-1776886200@erga.it
SUMMARY:𝗟𝗜𝗕𝗘𝗥𝗔𝗭𝗜𝗢𝗡𝗘 𝗟𝗮 𝗺𝗮𝗿𝗰𝗶𝗮 𝗰𝗼𝗻𝘁𝗶𝗻𝘂𝗮 alla Feltrinelli di Genova
DESCRIPTION:Mercoledì 22 aprile 2026 alle 18\,00 alla Feltrinelli di Genova \nMarco Doria introduce il volume \nLIBERAZIONE\nLa marcia continua\nUn nonno di Pontedecimo racconta attraverso i libri\n\ndi Silvano Bozzo \nUn volume che racconta\, attraverso i testi che hanno formato l’autore dalla giovinezza sino ai novant’anni\, una visione del mondo: gli ideali di comunità solidale\, il lavoro cooperativo come modello alternativo al capitalismo\, la possibilità di formarsi\, di avere gli strumenti per leggere le trasformazioni del mondo\, storiche\, sociali\, politiche ed economiche e farsi un’idea di quali strade percorrere per un futuro migliore.
URL:https://erga.it/eventi/mercoledi-22-aprile-2026-alle-1800-alla-feltrinelli-di-genova/
LOCATION:Libreria Feltrinelli di Genova\, via Ceccardi 18-24\, Genova\, 16121\, Italia
CATEGORIES:Presentazione Libro
ATTACH;FMTTYPE=image/jpeg:https://erga.it/wp-content/uploads/2026/04/22-aprile-Liberazione-La-marcia-continua-di-Silvano-Bozzo-da-Feltrinelli-di-Genova-Meme-e1776721064518.jpg
END:VEVENT
END:VCALENDAR